{"text_format":"1","workbook":"xlsx","n_sheets":4,"sheets":["Übersicht","Daten","Gesamt","2014"],"not_rendered":{"charts":1,"images":2,"macros":1,"external_links":0,"defined_names":0,"comments":1,"pivot_tables":0},"unopened":[],"bounds":{"document_bytes":16777216,"sheet_cells":100000,"rows_first":2000,"rows_last":500,"rows_between":2000,"halvings":0,"cell_chars":16384,"cell_head_chars":4096},"cells_cut":0,"cells_raw":0,"read":"whole","date_system":"1900"}

{"sheet":"Übersicht","index":0,"n_rows":32,"n_cols":12,"rows_kept":32,"cut":false,"hidden":false,"merged":[[0,6,0,7]]}
["Anbieter","Datum","Zählerstand","Datum","Zählerstand","Verbrauch /Kwh","Preis / Kwh o. MwSt",null,"Grundpreis","Z.-Summe","MwSt","Gesamt"]
[null,null,null,null,null,"Kwh","€","€ /Jahr","€","€","€","€"]
[{"$f":"Daten!A3","v":0},"2014-01-01",1060,"2014-12-31",null,{"$f":"IF(E3<>\"\",E3-C3,0)","v":0},{"$f":"Daten!O3","v":0},{"$f":"IF(F3<>\"\",F3*G3,\"\")","v":0},{"$f":"Daten!E3","v":0},{"$f":"IF(H3<>\"\",H3+I3,\"\")","v":0},{"$f":"IF(J3<>\"\",$J3*19%,\"\")","v":0},{"$f":"IF(J3<>\"\",J3+K3,\"\")","v":0}]
[{"$f":"Daten!A4","v":0},null,null,null,null,{"$f":"IF(E4<>\"\",E4-C4,0)","v":0},{"$f":"Daten!O4","v":0},{"$f":"IF(F4<>\"\",F4*G4,\"\")","v":0},{"$f":"Daten!E4","v":0},{"$f":"IF(H4<>\"\",H4+I4,\"\")","v":0},{"$f":"IF(J4<>\"\",$J4*19%,\"\")","v":0},{"$f":"IF(J4<>\"\",J4+K4,\"\")","v":0}]
[{"$f":"Daten!A5","v":0},null,null,null,null,{"$f":"IF(E5<>\"\",E5-C5,0)","v":0},{"$f":"Daten!O5","v":0},{"$f":"IF(F5<>\"\",F5*G5,\"\")","v":0},{"$f":"Daten!E5","v":0},{"$f":"IF(H5<>\"\",H5+I5,\"\")","v":0},{"$f":"IF(J5<>\"\",$J5*19%,\"\")","v":0},{"$f":"IF(J5<>\"\",J5+K5,\"\")","v":0}]
[{"$f":"Daten!A6","v":0},null,null,null,null,{"$f":"IF(E6<>\"\",E6-C6,0)","v":0},{"$f":"Daten!C6","v":0},{"$f":"IF(F6<>\"\",F6*G6,\"\")","v":0},{"$f":"Daten!E6","v":0},{"$f":"IF(H6<>\"\",H6+I6+Daten!M6,\"\")","v":0},{"$f":"IF(J6<>\"\",$J6*19%,\"\")","v":0},{"$f":"IF(J6<>\"\",J6+K6,\"\")","v":0}]
[{"$f":"Daten!A7","v":0},null,null,null,null,{"$f":"IF(E7<>\"\",E7-C7,0)","v":0},{"$f":"Daten!O7","v":0},{"$f":"IF(F7<>\"\",F7*G7,\"\")","v":0},{"$f":"Daten!E7","v":0},{"$f":"IF(H7<>\"\",H7+I7,\"\")","v":0},{"$f":"IF(J7<>\"\",$J7*19%,\"\")","v":0},{"$f":"IF(J7<>\"\",J7+K7,\"\")","v":0}]
[{"$f":"Daten!A8","v":0},null,null,null,null,{"$f":"IF(E8<>\"\",E8-C8,0)","v":0},{"$f":"Daten!O8","v":0},{"$f":"IF(F8<>\"\",F8*G8,\"\")","v":0},{"$f":"Daten!E8","v":0},{"$f":"IF(H8<>\"\",H8+I8,\"\")","v":0},{"$f":"IF(J8<>\"\",$J8*19%,\"\")","v":0},{"$f":"IF(J8<>\"\",J8+K8,\"\")","v":0}]
[{"$f":"Daten!A9","v":0},null,null,null,null,0,{"$f":"Daten!O9","v":0},0,{"$f":"Daten!E9","v":0},0,0,0]
[{"$f":"Daten!A10","v":0},null,null,null,null,0,{"$f":"Daten!O10","v":0},0,{"$f":"Daten!E10","v":0},0,0,0]
[{"$f":"Daten!A11","v":0},null,null,null,null,0,{"$f":"Daten!O11","v":0},0,{"$f":"Daten!E11","v":0},0,0,0]
[{"$f":"Daten!A12","v":0},null,null,null,null,0,{"$f":"Daten!O12","v":0},0,{"$f":"Daten!E12","v":0},0,0,0]
[{"$f":"Daten!A13","v":0},null,null,null,null,0,{"$f":"Daten!O13","v":0},0,{"$f":"Daten!E13","v":0},0,0,0]
[{"$f":"Daten!A14","v":0},null,null,null,null,0,{"$f":"Daten!O14","v":0},0,{"$f":"Daten!E14","v":0},0,0,0]
[{"$f":"Daten!A15","v":0},null,null,null,null,0,{"$f":"Daten!O15","v":0},0,{"$f":"Daten!E15","v":0},0,0,0]
[{"$f":"Daten!A16","v":0},null,null,null,null,0,{"$f":"Daten!O16","v":0},0,{"$f":"Daten!E16","v":0},0,0,0]
[{"$f":"Daten!A17","v":0},null,null,null,null,0,{"$f":"Daten!O17","v":0},0,{"$f":"Daten!E17","v":0},0,0,0]
[{"$f":"Daten!A18","v":0},null,null,null,null,0,{"$f":"Daten!O18","v":0},0,{"$f":"Daten!E18","v":0},0,0,0]
[{"$f":"Daten!A19","v":0},null,null,null,null,0,{"$f":"Daten!O19","v":0},0,{"$f":"Daten!E19","v":0},0,0,0]
[{"$f":"Daten!A20","v":0},null,null,null,null,0,{"$f":"Daten!O20","v":0},0,{"$f":"Daten!E20","v":0},0,0,0]
[{"$f":"Daten!A21","v":0},null,null,null,null,0,{"$f":"Daten!O21","v":0},0,{"$f":"Daten!E21","v":0},0,0,0]
[{"$f":"Daten!A22","v":0},null,null,null,null,0,{"$f":"Daten!O22","v":0},0,{"$f":"Daten!E22","v":0},0,0,0]
[{"$f":"Daten!A23","v":0},null,null,null,null,0,{"$f":"Daten!O23","v":0},0,{"$f":"Daten!E23","v":0},0,0,0]
[{"$f":"Daten!A24","v":0},null,null,null,null,0,{"$f":"Daten!O24","v":0},0,{"$f":"Daten!E24","v":0},0,0,0]
[{"$f":"Daten!A25","v":0},null,null,null,null,0,{"$f":"Daten!O25","v":0},0,{"$f":"Daten!E25","v":0},0,0,0]
[{"$f":"Daten!A26","v":0},null,null,null,null,0,{"$f":"Daten!O26","v":0},0,{"$f":"Daten!E26","v":0},0,0,0]
[{"$f":"Daten!A27","v":0},null,null,null,null,0,{"$f":"Daten!O27","v":0},0,{"$f":"Daten!E27","v":0},0,0,0]
[{"$f":"Daten!A28","v":0},null,null,null,null,0,{"$f":"Daten!O28","v":0},0,{"$f":"Daten!E28","v":0},0,0,0]
[{"$f":"Daten!A29","v":0},null,null,null,null,0,{"$f":"Daten!O29","v":0},0,{"$f":"Daten!E29","v":0},0,0,0]
[{"$f":"Daten!A30","v":0},null,null,null,null,0,{"$f":"Daten!O30","v":0},0,{"$f":"Daten!E30","v":0},0,0,0]
[{"$f":"Daten!A31","v":0},null,null,null,null,0,{"$f":"Daten!O31","v":0},0,{"$f":"Daten!E31","v":0},0,0,0]
[{"$f":"Daten!A32","v":0},null,null,null,null,0,null,0,null,0,0,0]

{"sheet":"Daten","index":1,"n_rows":32,"n_cols":19,"rows_kept":32,"cut":false,"hidden":false,"merged":[]}
["Anbieter","Jahr","Arb.-Preis:","Arb.-Preis:","Grundpreis","EEG","Summe","KWGK","Summe","S.Uml.","Summe","E-Steuer","Summe","Z.-Summe","Preis/Kwh","MwSt","Gesamt","Verbrauch","Veränd."]
[null,"Jahr","€/Kwh","€","€","€/Kwh","€","€/Kwh","€","€/Kwh","€","€","€","€","€","€","€","kWh","%"]
[null,{"$f":"MID(Übersicht!B3,7,4)","v":""},null,{"$f":"Übersicht!F3*C3","v":0},null,null,null,null,null,null,null,null,{"$f":"Übersicht!F3*L3","v":0},{"$f":"ROUND(D3+E3+G3+I3+M3,2)","v":0},{"$f":"C3+F3+H3+L3","v":0},{"$f":"$N3*19%","v":0},{"$f":"N3+P3","v":0},{"$f":"Übersicht!F3","v":0},0]
[null,{"$f":"MID(Übersicht!B4,7,4)","v":""},null,{"$f":"Übersicht!F4*C4","v":0},null,null,{"$f":"Übersicht!F4*F4","v":0},null,{"$f":"Übersicht!F4*H4","v":0},null,null,null,{"$f":"Übersicht!F4*L4","v":0},{"$f":"ROUND(D4+E4+G4+I4+M4,2)","v":0},{"$f":"C4+F4+H4+J4+L4","v":0},{"$f":"$N4*19%","v":0},{"$f":"N4+P4","v":0},{"$f":"Übersicht!F4","v":0},{"$f":"IF(AND(Q3<>0,Q4<>0),(Q4*100)/Q3-100,\"\")","v":""}]
[null,{"$f":"MID(Übersicht!B5,7,4)","v":""},null,{"$f":"Übersicht!F5*C5","v":0},null,null,{"$f":"Übersicht!F5*F5","v":0},null,{"$f":"Übersicht!F5*H5","v":0},null,{"$f":"Übersicht!F5*J5","v":0},null,{"$f":"Übersicht!F5*L5","v":0},{"$f":"ROUND(D5+E5+G5+I5+K5+M5,2)","v":0},{"$f":"C5+F5+H5+J5+L5","v":0},{"$f":"$N5*19%","v":0},{"$f":"N5+P5","v":0},{"$f":"Übersicht!F5","v":0},""]
[null,{"$f":"MID(Übersicht!B6,7,4)","v":""},null,{"$f":"Übersicht!F6*C6","v":0},null,null,{"$f":"Übersicht!F6*F6","v":0},null,{"$f":"Übersicht!F6*H6","v":0},null,{"$f":"Übersicht!F6*J6","v":0},null,{"$f":"Übersicht!F6*L6","v":0},{"$f":"ROUND(D6+E6+M6,2)","v":0},{"$f":"C6+F6+H6+J6+L6","v":0},0,{"$f":"N6+P6","v":0},{"$f":"Übersicht!F6","v":0},""]
[null,{"$f":"MID(Übersicht!B7,7,4)","v":""},null,{"$f":"Übersicht!F7*C7","v":0},null,null,{"$f":"Übersicht!F7*F7","v":0},null,{"$f":"Übersicht!F7*H7","v":0},null,{"$f":"Übersicht!F7*J7","v":0},null,{"$f":"Übersicht!F7*L7","v":0},{"$f":"ROUND(D7+E7+G7+I7+K7+M7,2)","v":0},0,0,0,{"$f":"Übersicht!F7","v":0},""]
[null,{"$f":"MID(Übersicht!B8,7,4)","v":""},null,{"$f":"Übersicht!F8*C8","v":0},null,null,{"$f":"Übersicht!F8*F8","v":0},null,{"$f":"Übersicht!F8*H8","v":0},null,{"$f":"Übersicht!F8*J8","v":0},null,{"$f":"Übersicht!F8*L8","v":0},0,0,0,0,{"$f":"Übersicht!F8","v":0},""]
[null,{"$f":"MID(Übersicht!B9,7,4)","v":""},null,{"$f":"Übersicht!F9*C9","v":0},null,null,{"$f":"Übersicht!F9*F9","v":0},null,{"$f":"Übersicht!F9*H9","v":0},null,{"$f":"Übersicht!F9*J9","v":0},null,{"$f":"Übersicht!F9*L9","v":0},0,0,0,0,{"$f":"Übersicht!F9","v":0},""]
[null,{"$f":"MID(Übersicht!B10,7,4)","v":""},null,{"$f":"Übersicht!F10*C10","v":0},null,null,{"$f":"Übersicht!F10*F10","v":0},null,{"$f":"Übersicht!F10*H10","v":0},null,{"$f":"Übersicht!F10*J10","v":0},null,{"$f":"Übersicht!F10*L10","v":0},0,0,0,0,{"$f":"Übersicht!F10","v":0},""]
[null,{"$f":"MID(Übersicht!B11,7,4)","v":""},null,{"$f":"Übersicht!F11*C11","v":0},null,null,{"$f":"Übersicht!F11*F11","v":0},null,{"$f":"Übersicht!F11*H11","v":0},null,{"$f":"Übersicht!F11*J11","v":0},null,{"$f":"Übersicht!F11*L11","v":0},0,0,0,0,{"$f":"Übersicht!F11","v":0},""]
[null,{"$f":"MID(Übersicht!B12,7,4)","v":""},null,{"$f":"Übersicht!F12*C12","v":0},null,null,{"$f":"Übersicht!F12*F12","v":0},null,null,null,{"$f":"Übersicht!F12*J12","v":0},null,{"$f":"Übersicht!F12*L12","v":0},0,0,0,0,{"$f":"Übersicht!F12","v":0},""]
[null,{"$f":"MID(Übersicht!B13,7,4)","v":""},null,{"$f":"Übersicht!F13*C13","v":0},null,null,{"$f":"Übersicht!F13*F13","v":0},null,{"$f":"Übersicht!F13*H13","v":0},null,{"$f":"Übersicht!F13*J13","v":0},null,{"$f":"Übersicht!F13*L13","v":0},0,0,0,0,{"$f":"Übersicht!F13","v":0},""]
[null,{"$f":"MID(Übersicht!B14,7,4)","v":""},null,{"$f":"Übersicht!F14*C14","v":0},null,null,{"$f":"Übersicht!F14*F14","v":0},null,{"$f":"Übersicht!F14*H14","v":0},null,{"$f":"Übersicht!F14*J14","v":0},null,{"$f":"Übersicht!F14*L14","v":0},0,0,0,0,{"$f":"Übersicht!F14","v":0},""]
[null,{"$f":"MID(Übersicht!B15,7,4)","v":""},null,{"$f":"Übersicht!F15*C15","v":0},null,null,{"$f":"Übersicht!F15*F15","v":0},null,{"$f":"Übersicht!F15*H15","v":0},null,{"$f":"Übersicht!F15*J15","v":0},null,{"$f":"Übersicht!F15*L15","v":0},0,0,0,0,{"$f":"Übersicht!F15","v":0},""]
[null,{"$f":"MID(Übersicht!B16,7,4)","v":""},null,{"$f":"Übersicht!F16*C16","v":0},null,null,{"$f":"Übersicht!F16*F16","v":0},null,{"$f":"Übersicht!F16*H16","v":0},null,{"$f":"Übersicht!F16*J16","v":0},null,{"$f":"Übersicht!F16*L16","v":0},0,0,0,0,{"$f":"Übersicht!F16","v":0},""]
[null,{"$f":"MID(Übersicht!B17,7,4)","v":""},null,{"$f":"Übersicht!F17*C17","v":0},null,null,{"$f":"Übersicht!F17*F17","v":0},null,{"$f":"Übersicht!F17*H17","v":0},null,{"$f":"Übersicht!F17*J17","v":0},null,{"$f":"Übersicht!F17*L17","v":0},0,0,0,0,{"$f":"Übersicht!F17","v":0},""]
[null,{"$f":"MID(Übersicht!B18,7,4)","v":""},null,{"$f":"Übersicht!F18*C18","v":0},null,null,{"$f":"Übersicht!F18*F18","v":0},null,{"$f":"Übersicht!F18*H18","v":0},null,{"$f":"Übersicht!F18*J18","v":0},null,{"$f":"Übersicht!F18*L18","v":0},0,0,0,0,{"$f":"Übersicht!F18","v":0},""]
[null,{"$f":"MID(Übersicht!B19,7,4)","v":""},null,{"$f":"Übersicht!F19*C19","v":0},null,null,{"$f":"Übersicht!F19*F19","v":0},null,{"$f":"Übersicht!F19*H19","v":0},null,{"$f":"Übersicht!F19*J19","v":0},null,{"$f":"Übersicht!F19*L19","v":0},0,0,0,0,{"$f":"Übersicht!F19","v":0},""]
[null,{"$f":"MID(Übersicht!B20,7,4)","v":""},null,{"$f":"Übersicht!F20*C20","v":0},null,null,{"$f":"Übersicht!F20*F20","v":0},null,{"$f":"Übersicht!F20*H20","v":0},null,{"$f":"Übersicht!F20*J20","v":0},null,{"$f":"Übersicht!F20*L20","v":0},0,0,0,0,{"$f":"Übersicht!F20","v":0},""]
[null,{"$f":"MID(Übersicht!B21,7,4)","v":""},null,{"$f":"Übersicht!F21*C21","v":0},null,null,{"$f":"Übersicht!F21*F21","v":0},null,{"$f":"Übersicht!F21*H21","v":0},null,{"$f":"Übersicht!F21*J21","v":0},null,{"$f":"Übersicht!F21*L21","v":0},0,0,0,0,{"$f":"Übersicht!F21","v":0},""]
[null,{"$f":"MID(Übersicht!B22,7,4)","v":""},null,{"$f":"Übersicht!F22*C22","v":0},null,null,{"$f":"Übersicht!F22*F22","v":0},null,{"$f":"Übersicht!F22*H22","v":0},null,{"$f":"Übersicht!F22*J22","v":0},null,{"$f":"Übersicht!F22*L22","v":0},0,0,0,0,{"$f":"Übersicht!F22","v":0},""]
[null,{"$f":"MID(Übersicht!B23,7,4)","v":""},null,{"$f":"Übersicht!F23*C23","v":0},null,null,{"$f":"Übersicht!F23*F23","v":0},null,{"$f":"Übersicht!F23*H23","v":0},null,{"$f":"Übersicht!F23*J23","v":0},null,{"$f":"Übersicht!F23*L23","v":0},0,0,0,0,{"$f":"Übersicht!F23","v":0},""]
[null,{"$f":"MID(Übersicht!B24,7,4)","v":""},null,{"$f":"Übersicht!F24*C24","v":0},null,null,{"$f":"Übersicht!F24*F24","v":0},null,{"$f":"Übersicht!F24*H24","v":0},null,{"$f":"Übersicht!F24*J24","v":0},null,{"$f":"Übersicht!F24*L24","v":0},0,0,0,0,{"$f":"Übersicht!F24","v":0},""]
[null,{"$f":"MID(Übersicht!B25,7,4)","v":""},null,{"$f":"Übersicht!F25*C25","v":0},null,null,{"$f":"Übersicht!F25*F25","v":0},null,{"$f":"Übersicht!F25*H25","v":0},null,{"$f":"Übersicht!F25*J25","v":0},null,{"$f":"Übersicht!F25*L25","v":0},0,0,0,0,{"$f":"Übersicht!F25","v":0},""]
[null,{"$f":"MID(Übersicht!B26,7,4)","v":""},null,{"$f":"Übersicht!F26*C26","v":0},null,null,{"$f":"Übersicht!F26*F26","v":0},null,{"$f":"Übersicht!F26*H26","v":0},null,{"$f":"Übersicht!F26*J26","v":0},null,{"$f":"Übersicht!F26*L26","v":0},0,0,0,0,{"$f":"Übersicht!F26","v":0},""]
[null,{"$f":"MID(Übersicht!B27,7,4)","v":""},null,{"$f":"Übersicht!F27*C27","v":0},null,null,{"$f":"Übersicht!F27*F27","v":0},null,{"$f":"Übersicht!F27*H27","v":0},null,{"$f":"Übersicht!F27*J27","v":0},null,{"$f":"Übersicht!F27*L27","v":0},0,0,0,0,{"$f":"Übersicht!F27","v":0},""]
[null,{"$f":"MID(Übersicht!B28,7,4)","v":""},null,{"$f":"Übersicht!F28*C28","v":0},null,null,{"$f":"Übersicht!F28*F28","v":0},null,{"$f":"Übersicht!F28*H28","v":0},null,{"$f":"Übersicht!F28*J28","v":0},null,{"$f":"Übersicht!F28*L28","v":0},0,0,0,0,{"$f":"Übersicht!F28","v":0},""]
[null,{"$f":"MID(Übersicht!B29,7,4)","v":""},null,{"$f":"Übersicht!F29*C29","v":0},null,null,null,null,{"$f":"Übersicht!F29*H29","v":0},null,{"$f":"Übersicht!F29*J29","v":0},null,{"$f":"Übersicht!F29*L29","v":0},0,0,0,0,{"$f":"Übersicht!F29","v":0},""]
[null,{"$f":"MID(Übersicht!B30,7,4)","v":""},null,{"$f":"Übersicht!F30*C30","v":0},null,null,{"$f":"Übersicht!F30*F30","v":0},null,{"$f":"Übersicht!F30*H30","v":0},null,{"$f":"Übersicht!F30*J30","v":0},null,{"$f":"Übersicht!F30*L30","v":0},0,0,0,0,{"$f":"Übersicht!F30","v":0},""]
[null,{"$f":"MID(Übersicht!B31,7,4)","v":""},null,{"$f":"Übersicht!F31*C31","v":0},null,null,{"$f":"Übersicht!F31*F31","v":0},null,{"$f":"Übersicht!F31*H31","v":0},null,{"$f":"Übersicht!F31*J31","v":0},null,{"$f":"Übersicht!F31*L31","v":0},0,0,0,0,{"$f":"Übersicht!F31","v":0},""]
[null,{"$f":"MID(Übersicht!B32,7,4)","v":""},null,null,null,null,null,null,null,null,{"$f":"Übersicht!F32*J32","v":0},null,null,0,0,null,null,{"$f":"Übersicht!F32","v":0},""]

{"sheet":"Gesamt","index":2,"n_rows":83,"n_cols":15,"rows_kept":83,"cut":false,"hidden":false,"merged":[]}
[2014,"Verbrauch","M-Wert",null,null,"Verbrauch","M-Wert",null,null,"Verbrauch","M-Wert",null,null,"Verbrauch","M-Wert"]
["Jan",{"$f":"'2014'!$C$36","v":0},{"$f":"'2014'!$C$35","v":""},null,"Jan",null,null,null,"Jan",null,null,null,"Jan"]
["Feb",{"$f":"'2014'!$G$36","v":0},{"$f":"'2014'!$G$35","v":""},null,"Feb",null,null,null,"Feb",null,null,null,"Feb"]
["Mrz",{"$f":"'2014'!$K$36","v":0},{"$f":"'2014'!$K$35","v":""},null,"Mrz",null,null,null,"Mrz",null,null,null,"Mrz"]
["Apr",{"$f":"'2014'!$C$72","v":0},{"$f":"'2014'!$C$71","v":""},null,"Apr",null,null,null,"Apr",null,null,null,"Apr"]
["Mai",{"$f":"'2014'!$G$72","v":0},{"$f":"'2014'!$G$71","v":""},null,"Mai",null,null,null,"Mai",null,null,null,"Mai"]
["Jun",{"$f":"'2014'!$K$72","v":0},{"$f":"'2014'!$K$71","v":""},null,"Jun",null,null,null,"Jun",null,null,null,"Jun"]
["Jul",{"$f":"'2014'!$C$108","v":0},{"$f":"'2014'!$C$107","v":""},null,"Jul",null,null,null,"Jul",null,null,null,"Jul"]
["Aug",{"$f":"'2014'!$G$108","v":0},{"$f":"'2014'!$C$107","v":""},null,"Aug",null,null,null,"Aug",null,null,null,"Aug"]
["Sep",{"$f":"'2014'!$K$108","v":0},{"$f":"'2014'!$K$107","v":""},null,"Sep",null,null,null,"Sep",null,null,null,"Sep"]
["Okt",{"$f":"'2014'!$C$144","v":0},{"$f":"'2014'!$C$143","v":""},null,"Okt",null,null,null,"Okt",null,null,null,"Okt"]
["Nov",{"$f":"'2014'!$G$144","v":0},{"$f":"'2014'!$G$143","v":""},null,"Nov",null,null,null,"Nov",null,null,null,"Nov"]
["Dez",{"$f":"'2014'!$K$144","v":0},{"$f":"'2014'!$K$143","v":""},null,"Dez",null,null,null,"Dez",null,null,null,"Dez"]
["Jahr:",{"$f":"SUM(B2:B13)","v":0},{"$f":"SUM(C2:C13)","v":0},null,"Jahr:",{"$f":"SUM(F2:F13)","v":0},{"$f":"SUM(G2:G13)","v":0},null,"Jahr:",{"$f":"SUM(J2:J13)","v":0},{"$f":"IF(K2<>\"\",AVERAGE(K2:K13),\"\")","v":""},null,"Jahr:",{"$f":"SUM(N2:N13)","v":0},{"$f":"IF(O2<>\"\",AVERAGE(O2:O13),\"\")","v":""}]
["Mittelwert:",{"$f":"IF(B2<>0,AVERAGE(B2:B13),\"\")","v":""},null,null,"Mittelwert:",{"$f":"IF(F2<>0,AVERAGE(F2:F13),\"\")","v":""},null,null,"Mittelwert:",{"$f":"IF(J2<>0,AVERAGE(J2:J13),\"\")","v":""},null,null,"Mittelwert:",{"$f":"IF(N2<>0,AVERAGE(N2:N13),\"\")","v":""}]
[]
[]
[null,"Verbrauch","M-Wert",null,null,"Verbrauch","M-Wert",null,null,"Verbrauch","M-Wert",null,null,"Verbrauch","M-Wert"]
["Jan",null,null,null,"Jan",null,null,null,"Jan",null,null,null,"Jan"]
["Feb",null,null,null,"Feb",null,null,null,"Feb",null,null,null,"Feb"]
["Mrz",null,null,null,"Mrz",null,null,null,"Mrz",null,null,null,"Mrz"]
["Apr",null,null,null,"Apr",null,null,null,"Apr",null,null,null,"Apr"]
["Mai",null,null,null,"Mai",null,null,null,"Mai",null,null,null,"Mai"]
["Jun",null,null,null,"Jun",null,null,null,"Jun",null,null,null,"Jun"]
["Jul",null,null,null,"Jul",null,null,null,"Jul",null,null,null,"Jul"]
["Aug",null,null,null,"Aug",null,null,null,"Aug",null,null,null,"Aug"]
["Sep",null,null,null,"Sep",null,null,null,"Sep",null,null,null,"Sep"]
["Okt",null,null,null,"Okt",null,null,null,"Okt",null,null,null,"Okt"]
["Nov",null,null,null,"Nov",null,null,null,"Nov",null,null,null,"Nov"]
["Dez",null,null,null,"Dez",null,null,null,"Dez",null,null,null,"Dez"]
["Jahr:",{"$f":"SUM(B19:B30)","v":0},{"$f":"IF(C19<>\"\",AVERAGE(C19:C30),\"\")","v":""},null,"Jahr:",{"$f":"SUM(F19:F30)","v":0},{"$f":"IF(G19<>\"\",AVERAGE(G19:G30),\"\")","v":""},null,"Jahr:",{"$f":"SUM(J19:J30)","v":0},{"$f":"IF(K19<>\"\",AVERAGE(K19:K30),\"\")","v":""},null,"Jahr:",{"$f":"SUM(N19:N30)","v":0},{"$f":"IF(O19<>\"\",AVERAGE(O19:O30),\"\")","v":""}]
["Mittelwert:",{"$f":"IF(B19<>0,AVERAGE(B19:B30),\"\")","v":""},null,null,"Mittelwert:",{"$f":"IF(F19<>0,AVERAGE(F19:F30),\"\")","v":""},null,null,"Mittelwert:",{"$f":"IF(J19<>0,AVERAGE(J19:J30),\"\")","v":""},null,null,"Mittelwert:",{"$f":"IF(N19<>0,AVERAGE(N19:N30),\"\")","v":""}]
[]
[]
[null,"Verbrauch","M-Wert",null,null,"Verbrauch","M-Wert",null,null,"Verbrauch","M-Wert",null,null,"Verbrauch","M-Wert"]
["Jan",null,null,null,"Jan",null,null,null,"Jan",null,null,null,"Jan"]
["Feb",null,null,null,"Feb",null,null,null,"Feb",null,null,null,"Feb"]
["Mrz",null,null,null,"Mrz",null,null,null,"Mrz",null,null,null,"Mrz"]
["Apr",null,null,null,"Apr",null,null,null,"Apr",null,null,null,"Apr"]
["Mai",null,null,null,"Mai",null,null,null,"Mai",null,null,null,"Mai"]
["Jun",null,null,null,"Jun",null,null,null,"Jun",null,null,null,"Jun"]
["Jul",null,null,null,"Jul",null,null,null,"Jul",null,null,null,"Jul"]
["Aug",null,null,null,"Aug",null,null,null,"Aug",null,null,null,"Aug"]
["Sep",null,null,null,"Sep",null,null,null,"Sep",null,null,null,"Sep"]
["Okt",null,null,null,"Okt",null,null,null,"Okt",null,null,null,"Okt"]
["Nov",null,null,null,"Nov",null,null,null,"Nov",null,null,null,"Nov"]
["Dez",null,null,null,"Dez",null,null,null,"Dez",null,null,null,"Dez"]
["Jahr:",{"$f":"SUM(B36:B47)","v":0},{"$f":"IF(C36<>\"\",AVERAGE(C36:C47),\"\")","v":""},null,"Jahr:",{"$f":"SUM(F36:F47)","v":0},{"$f":"IF(G36<>\"\",AVERAGE(G36:G47),\"\")","v":""},null,"Jahr:",{"$f":"SUM(J36:J47)","v":0},{"$f":"IF(K36<>\"\",AVERAGE(K36:K47),\"\")","v":""},null,"Jahr:",{"$f":"SUM(N36:N47)","v":0},{"$f":"IF(O36<>\"\",AVERAGE(O36:O47),\"\")","v":""}]
["Mittelwert:",{"$f":"IF(B36<>0,AVERAGE(B36:B47),\"\")","v":""},null,null,"Mittelwert:",{"$f":"IF(F36<>0,AVERAGE(F36:F47),\"\")","v":""},null,null,"Mittelwert:",{"$f":"IF(J36<>0,AVERAGE(J36:J47),\"\")","v":""},null,null,"Mittelwert:",{"$f":"IF(N36<>0,AVERAGE(N36:N47),\"\")","v":""}]
[]
[]
[null,"Verbrauch","M-Wert",null,null,"Verbrauch","M-Wert",null,null,"Verbrauch","M-Wert",null,null,"Verbrauch","M-Wert"]
["Jan",null,null,null,"Jan",null,null,null,"Jan",null,null,null,"Jan"]
["Feb",null,null,null,"Feb",null,null,null,"Feb",null,null,null,"Feb"]
["Mrz",null,null,null,"Mrz",null,null,null,"Mrz",null,null,null,"Mrz"]
["Apr",null,null,null,"Apr",null,null,null,"Apr",null,null,null,"Apr"]
["Mai",null,null,null,"Mai",null,null,null,"Mai",null,null,null,"Mai"]
["Jun",null,null,null,"Jun",null,null,null,"Jun",null,null,null,"Jun"]
["Jul",null,null,null,"Jul",null,null,null,"Jul",null,null,null,"Jul"]
["Aug",null,null,null,"Aug",null,null,null,"Aug",null,null,null,"Aug"]
["Sep",null,null,null,"Sep",null,null,null,"Sep",null,null,null,"Sep"]
["Okt",null,null,null,"Okt",null,null,null,"Okt",null,null,null,"Okt"]
["Nov",null,null,null,"Nov",null,null,null,"Nov",null,null,null,"Nov"]
["Dez",null,null,null,"Dez",null,null,null,"Dez",null,null,null,"Dez"]
["Jahr:",{"$f":"SUM(B53:B64)","v":0},{"$f":"IF(C53<>\"\",AVERAGE(C53:C64),\"\")","v":""},null,"Jahr:",{"$f":"SUM(F53:F64)","v":0},{"$f":"IF(G53<>\"\",AVERAGE(G53:G64),\"\")","v":""},null,"Jahr:",{"$f":"SUM(J53:J64)","v":0},{"$f":"IF(K53<>\"\",AVERAGE(K53:K64),\"\")","v":""},null,"Jahr:",{"$f":"SUM(N53:N64)","v":0},{"$f":"IF(O53<>\"\",AVERAGE(O53:O64),\"\")","v":""}]
["Mittelwert:",{"$f":"IF(B53<>0,AVERAGE(B53:B64),\"\")","v":""},null,null,"Mittelwert:",{"$f":"IF(F53<>0,AVERAGE(F53:F64),\"\")","v":""},null,null,"Mittelwert:",{"$f":"IF(J53<>0,AVERAGE(J53:J64),\"\")","v":""},null,null,"Mittelwert:",{"$f":"IF(N53<>0,AVERAGE(N53:N64),\"\")","v":""}]
[]
[]
[null,"Verbrauch","M-Wert",null,null,"Verbrauch","M-Wert"]
["Jan",null,null,null,"Jan"]
["Feb",null,null,null,"Feb"]
["Mrz",null,null,null,"Mrz"]
["Apr",null,null,null,"Apr"]
["Mai",null,null,null,"Mai"]
["Jun",null,null,null,"Jun"]
["Jul",null,null,null,"Jul"]
["Aug",null,null,null,"Aug"]
["Sep",null,null,null,"Sep"]
["Okt",null,null,null,"Okt"]
["Nov",null,null,null,"Nov"]
["Dez",null,null,null,"Dez"]
["Jahr:",{"$f":"SUM(B70:B81)","v":0},{"$f":"IF(C70<>\"\",AVERAGE(C70:C81),\"\")","v":""},null,"Jahr:",{"$f":"SUM(F70:F81)","v":0},{"$f":"IF(G70<>\"\",AVERAGE(G70:G81),\"\")","v":""}]
["Mittelwert:",{"$f":"IF(B70<>0,AVERAGE(B70:B81),\"\")","v":""},null,null,"Mittelwert:",{"$f":"IF(F70<>0,AVERAGE(F70:F81),\"\")","v":""}]

{"sheet":"2014","index":3,"n_rows":145,"n_cols":11,"rows_kept":145,"cut":false,"hidden":false,"merged":[]}
["01.01.2014","Jan",null,null,null,"Feb",null,null,null,"Mrz"]
["Jan","Z.-Stand","Verbrauch",null,"Feb","Z.-Stand","Verbrauch",null,"März","Z.-Stand","Verbrauch"]
["Datum",{"$f":"Übersicht!C3","v":1060},"KWh",null,"Datum",{"$f":"MAX(B3:B34)","v":1060},"KWh",null,"Datum",{"$f":"MAX(F3:F34)","v":1060},"KWh"]
[{"$f":"DATE(YEAR($A$1),MONTH($A$1),DAY($A$1))","v":"2014-01-01"},null,{"$f":"IF(AND(B3<>\"\",B4<>\"\"),B4-B3,\"\")","v":""},null,{"$f":"DATE(YEAR($A$1),MONTH($A$1)+1,DAY($A$1))","v":"2014-02-01"},null,{"$f":"IF(AND(F3<>\"\",F4<>\"\"),F4-F3,\"\")","v":""},null,{"$f":"DATE(YEAR($A$1),MONTH($A$1)+2,DAY($A$1))","v":"2014-03-01"},null,{"$f":"IF(AND(J3<>\"\",J4<>\"\"),J4-J3,\"\")","v":""}]
["2014-01-02",null,{"$f":"IF(AND(B4<>\"\",B5<>\"\"),B5-B4,\"\")","v":""},null,"2014-02-02",null,{"$f":"IF(AND(F4<>\"\",F5<>\"\"),F5-F4,\"\")","v":""},null,"2014-03-02",null,{"$f":"IF(AND(J4<>\"\",J5<>\"\"),J5-J4,\"\")","v":""}]
["2014-01-03",null,"",null,"2014-02-03",null,"",null,"2014-03-03",null,""]
["2014-01-04",null,"",null,"2014-02-04",null,"",null,"2014-03-04",null,""]
["2014-01-05",null,"",null,"2014-02-05",null,"",null,"2014-03-05",null,""]
["2014-01-06",null,"",null,"2014-02-06",null,"",null,"2014-03-06",null,""]
["2014-01-07",null,"",null,"2014-02-07",null,"",null,"2014-03-07",null,""]
["2014-01-08",null,"",null,"2014-02-08",null,"",null,"2014-03-08",null,""]
["2014-01-09",null,"",null,"2014-02-09",null,"",null,"2014-03-09",null,""]
["2014-01-10",null,"",null,"2014-02-10",null,"",null,"2014-03-10",null,""]
["2014-01-11",null,"",null,"2014-02-11",null,"",null,"2014-03-11",null,""]
["2014-01-12",null,"",null,"2014-02-12",null,"",null,"2014-03-12",null,""]
["2014-01-13",null,"",null,"2014-02-13",null,"",null,"2014-03-13",null,""]
["2014-01-14",null,"",null,"2014-02-14",null,"",null,"2014-03-14",null,""]
["2014-01-15",null,"",null,"2014-02-15",null,"",null,"2014-03-15",null,""]
["2014-01-16",null,"",null,"2014-02-16",null,"",null,"2014-03-16",null,""]
["2014-01-17",null,"",null,"2014-02-17",null,"",null,"2014-03-17",null,""]
["2014-01-18",null,"",null,"2014-02-18",null,"",null,"2014-03-18",null,""]
["2014-01-19",null,"",null,"2014-02-19",null,"",null,"2014-03-19",null,""]
["2014-01-20",null,"",null,"2014-02-20",null,"",null,"2014-03-20",null,""]
["2014-01-21",null,"",null,"2014-02-21",null,"",null,"2014-03-21",null,""]
["2014-01-22",null,"",null,"2014-02-22",null,"",null,"2014-03-22",null,""]
["2014-01-23",null,"",null,"2014-02-23",null,"",null,"2014-03-23",null,""]
["2014-01-24",null,"",null,"2014-02-24",null,"",null,"2014-03-24",null,""]
["2014-01-25",null,"",null,"2014-02-25",null,"",null,"2014-03-25",null,""]
["2014-01-26",null,"",null,"2014-02-26",null,"",null,"2014-03-26",null,""]
["2014-01-27",null,"",null,"2014-02-27",null,"",null,"2014-03-27",null,""]
["2014-01-28",null,"",null,"2014-02-28",null,"",null,"2014-03-28",null,""]
["2014-01-29",null,"",null,null,null,null,null,"2014-03-29",null,""]
["2014-01-30",null,"",null,null,null,{"$f":"IF(AND(E33<>\"\",F33<>\"\"),F33-F32,\"\")","v":""},null,"2014-03-30",null,""]
["2014-01-31",null,"",null,null,null,null,null,"2014-03-31",null,""]
[null,"Mittelwert:",{"$f":"IF(C4<>\"\",AVERAGE(C4:C34),\"\")","v":""},null,null,null,{"$f":"IF(G4<>\"\",AVERAGE(G4:G34),\"\")","v":""},null,null,null,{"$f":"IF(K4<>\"\",AVERAGE(K4:K34),\"\")","v":""}]
[null,"Gesamt:",{"$f":"SUM(C4:C34)","v":0},null,null,"Gesamt:",{"$f":"SUM(G4:G34)","v":0},null,null,"Gesamt:",{"$f":"SUM(K4:K34)","v":0}]
[null,"Apr",null,null,null,"Mai",null,null,null,"Jun"]
["Apr","Z.-Stand","Apr",null,"Mai","Z.-Stand","Mai",null,"Mai","Z.-Stand","Jun"]
["Datum",{"$f":"MAX(J3:J34)","v":1060},"KWh",null,"Datum",{"$f":"MAX(B39:B70)","v":1060},"KWh",null,"Datum",{"$f":"MAX(F39:F70)","v":1060},"KWh"]
[{"$f":"DATE(YEAR($A$1),MONTH($A$1)+3,DAY($A$1))","v":"2014-04-01"},null,{"$f":"IF(AND(B39<>\"\",B40<>\"\"),B40-B39,\"\")","v":""},null,{"$f":"DATE(YEAR($A$1),MONTH($A$1)+4,DAY($A$1))","v":"2014-05-01"},null,{"$f":"IF(AND(F39<>\"\",F40<>\"\"),F40-F39,\"\")","v":""},null,{"$f":"DATE(YEAR($A$1),MONTH($A$1)+5,DAY($A$1))","v":"2014-06-01"},null,{"$f":"IF(AND(J39<>\"\",J40<>\"\"),J40-J39,\"\")","v":""}]
["2014-04-02",null,{"$f":"IF(AND(B40<>\"\",B41<>\"\"),B41-B40,\"\")","v":""},null,"2014-05-02",null,{"$f":"IF(AND(F40<>\"\",F41<>\"\"),F41-F40,\"\")","v":""},null,"2014-06-02",null,{"$f":"IF(AND(J40<>\"\",J41<>\"\"),J41-J40,\"\")","v":""}]
["2014-04-03",null,"",null,"2014-05-03",null,"",null,"2014-06-03",null,""]
["2014-04-04",null,"",null,"2014-05-04",null,"",null,"2014-06-04",null,""]
["2014-04-05",null,"",null,"2014-05-05",null,"",null,"2014-06-05",null,""]
["2014-04-06",null,"",null,"2014-05-06",null,"",null,"2014-06-06",null,""]
["2014-04-07",null,"",null,"2014-05-07",null,"",null,"2014-06-07",null,""]
["2014-04-08",null,"",null,"2014-05-08",null,"",null,"2014-06-08",null,""]
["2014-04-09",null,"",null,"2014-05-09",null,"",null,"2014-06-09",null,""]
["2014-04-10",null,"",null,"2014-05-10",null,"",null,"2014-06-10",null,""]
["2014-04-11",null,"",null,"2014-05-11",null,"",null,"2014-06-11",null,""]
["2014-04-12",null,"",null,"2014-05-12",null,"",null,"2014-06-12",null,""]
["2014-04-13",null,"",null,"2014-05-13",null,"",null,"2014-06-13",null,""]
["2014-04-14",null,"",null,"2014-05-14",null,"",null,"2014-06-14",null,""]
["2014-04-15",null,"",null,"2014-05-15",null,"",null,"2014-06-15",null,""]
["2014-04-16",null,"",null,"2014-05-16",null,"",null,"2014-06-16",null,""]
["2014-04-17",null,"",null,"2014-05-17",null,"",null,"2014-06-17",null,""]
["2014-04-18",null,"",null,"2014-05-18",null,"",null,"2014-06-18",null,""]
["2014-04-19",null,"",null,"2014-05-19",null,"",null,"2014-06-19",null,""]
["2014-04-20",null,"",null,"2014-05-20",null,"",null,"2014-06-20",null,""]
["2014-04-21",null,"",null,"2014-05-21",null,"",null,"2014-06-21",null,""]
["2014-04-22",null,"",null,"2014-05-22",null,"",null,"2014-06-22",null,""]
["2014-04-23",null,"",null,"2014-05-23",null,"",null,"2014-06-23",null,""]
["2014-04-24",null,"",null,"2014-05-24",null,"",null,"2014-06-24",null,""]
["2014-04-25",null,"",null,"2014-05-25",null,"",null,"2014-06-25",null,""]
["2014-04-26",null,"",null,"2014-05-26",null,"",null,"2014-06-26",null,""]
["2014-04-27",null,"",null,"2014-05-27",null,"",null,"2014-06-27",null,""]
["2014-04-28",null,"",null,"2014-05-28",null,"",null,"2014-06-28",null,""]
["2014-04-29",null,"",null,"2014-05-29",null,"",null,"2014-06-29",null,""]
["2014-04-30",null,"",null,"2014-05-30",null,"",null,"2014-06-30",null,""]
[null,null,{"$f":"IF(AND(A70<>\"\",B70<>\"\"),B70-B69,\"\")","v":""},null,"2014-05-31",null,"",null,null,null,{"$f":"IF(AND(J69<>\"\",J70<>\"\"),J70-J69,\"\")","v":""}]
[null,"Mittelwert:",{"$f":"IF(C40<>\"\",AVERAGE(C40:C70),\"\")","v":""},null,null,"Mittelwert:",{"$f":"IF(G40<>\"\",AVERAGE(G40:G70),\"\")","v":""},null,null,"Mittelwert:",{"$f":"IF(K40<>\"\",AVERAGE(K40:K70),\"\")","v":""}]
[null,"Gesamt:",{"$f":"SUM(C40:C70)","v":0},null,null,"Gesamt:",{"$f":"SUM(G40:G70)","v":0},null,null,"Gesamt:",{"$f":"SUM(K40:K70)","v":0}]
[null,"Jul",null,null,null,"Aug",null,null,null,"Sep"]
["Jul","Z.-Stand","Verbrauch",null,"Aug","Z.-Stand","Verbrauch",null,"Sep","Z.-Stand","Verbrauch"]
["Datum",{"$f":"MAX(J39:J70)","v":1060},"KWh",null,"Datum",{"$f":"MAX(B75:B106)","v":1060},"KWh",null,"Datum",{"$f":"MAX(F75:F106)","v":1060},"KWh"]
[{"$f":"DATE(YEAR($A$1),MONTH($A$1)+6,DAY($A$1))","v":"2014-07-01"},null,{"$f":"IF(AND(B75<>\"\",B76<>\"\"),B76-B75,\"\")","v":""},null,{"$f":"DATE(YEAR($A$1),MONTH($A$1)+7,DAY($A$1))","v":"2014-08-01"},null,{"$f":"IF(AND(F75<>\"\",F76<>\"\"),F76-F75,\"\")","v":""},null,{"$f":"DATE(YEAR($A$1),MONTH($A$1)+8,DAY($A$1))","v":"2014-09-01"},null,{"$f":"IF(AND(J75<>\"\",J76<>\"\"),J76-J75,\"\")","v":""}]
["2014-07-02",null,{"$f":"IF(AND(B76<>\"\",B77<>\"\"),B77-B76,\"\")","v":""},null,"2014-08-02",null,{"$f":"IF(AND(F76<>\"\",F77<>\"\"),F77-F76,\"\")","v":""},null,"2014-09-02",null,{"$f":"IF(AND(J76<>\"\",J77<>\"\"),J77-J76,\"\")","v":""}]
["2014-07-03",null,"",null,"2014-08-03",null,"",null,"2014-09-03",null,""]
["2014-07-04",null,"",null,"2014-08-04",null,"",null,"2014-09-04",null,""]
["2014-07-05",null,"",null,"2014-08-05",null,"",null,"2014-09-05",null,""]
["2014-07-06",null,"",null,"2014-08-06",null,"",null,"2014-09-06",null,""]
["2014-07-07",null,"",null,"2014-08-07",null,"",null,"2014-09-07",null,""]
["2014-07-08",null,"",null,"2014-08-08",null,"",null,"2014-09-08",null,""]
["2014-07-09",null,"",null,"2014-08-09",null,"",null,"2014-09-09",null,""]
["2014-07-10",null,"",null,"2014-08-10",null,"",null,"2014-09-10",null,""]
["2014-07-11",null,"",null,"2014-08-11",null,"",null,"2014-09-11",null,""]
["2014-07-12",null,"",null,"2014-08-12",null,"",null,"2014-09-12",null,""]
["2014-07-13",null,"",null,"2014-08-13",null,"",null,"2014-09-13",null,""]
["2014-07-14",null,"",null,"2014-08-14",null,"",null,"2014-09-14",null,""]
["2014-07-15",null,"",null,"2014-08-15",null,"",null,"2014-09-15",null,""]
["2014-07-16",null,"",null,"2014-08-16",null,"",null,"2014-09-16",null,""]
["2014-07-17",null,"",null,"2014-08-17",null,"",null,"2014-09-17",null,""]
["2014-07-18",null,"",null,"2014-08-18",null,"",null,"2014-09-18",null,""]
["2014-07-19",null,"",null,"2014-08-19",null,"",null,"2014-09-19",null,""]
["2014-07-20",null,"",null,"2014-08-20",null,"",null,"2014-09-20",null,""]
["2014-07-21",null,"",null,"2014-08-21",null,"",null,"2014-09-21",null,""]
["2014-07-22",null,"",null,"2014-08-22",null,"",null,"2014-09-22",null,""]
["2014-07-23",null,"",null,"2014-08-23",null,"",null,"2014-09-23",null,""]
["2014-07-24",null,"",null,"2014-08-24",null,"",null,"2014-09-24",null,""]
["2014-07-25",null,"",null,"2014-08-25",null,"",null,"2014-09-25",null,""]
["2014-07-26",null,"",null,"2014-08-26",null,"",null,"2014-09-26",null,""]
["2014-07-27",null,"",null,"2014-08-27",null,"",null,"2014-09-27",null,""]
["2014-07-28",null,"",null,"2014-08-28",null,"",null,"2014-09-28",null,""]
["2014-07-29",null,"",null,"2014-08-29",null,"",null,"2014-09-29",null,""]
["2014-07-30",null,"",null,"2014-08-30",null,"",null,"2014-09-30",null,""]
["2014-07-31",null,"",null,"2014-08-31",null,"",null,null,null,{"$f":"IF(AND(J105<>\"\",J106<>\"\"),J106-J105,\"\")","v":""}]
[null,"Mittelwert:",{"$f":"IF(C76<>\"\",AVERAGE(C76:C106),\"\")","v":""},null,null,"Mittelwert:",{"$f":"IF(G76<>\"\",AVERAGE(G76:G106),\"\")","v":""},null,null,"Mittelwert:",{"$f":"IF(K76<>\"\",AVERAGE(K76:K106),\"\")","v":""}]
[null,"Gesamt:",{"$f":"SUM(C76:C106)","v":0},null,null,"Gesamt:",{"$f":"SUM(G76:G106)","v":0},null,null,"Gesamt:",{"$f":"SUM(K76:K106)","v":0}]
[null,"Okt",null,null,null,"Nov",null,null,null,"Dez"]
["Okt","Z.-Stand","Verbrauch",null,"Nov","Z.-Stand","Verbrauch",null,"Dez","Z.-Stand","Verbrauch"]
["Datum",{"$f":"MAX(J75:J106)","v":1060},"KWh",null,"Datum",{"$f":"MAX(B111:B142)","v":1060},"KWh",null,"Datum",{"$f":"MAX(F111:F142)","v":1060},"KWh"]
[{"$f":"DATE(YEAR($A$1),MONTH($A$1)+9,DAY($A$1))","v":"2014-10-01"},null,{"$f":"IF(AND(B111<>\"\",B112<>\"\"),B112-B111,\"\")","v":""},null,{"$f":"DATE(YEAR($A$1),MONTH($A$1)+10,DAY($A$1))","v":"2014-11-01"},null,{"$f":"IF(AND(F111<>\"\",F112<>\"\"),F112-F111,\"\")","v":""},null,{"$f":"DATE(YEAR($A$1),MONTH($A$1)+11,DAY($A$1))","v":"2014-12-01"},null,{"$f":"IF(AND(J111<>\"\",J112<>\"\"),J112-J111,\"\")","v":""}]
["2014-10-02",null,{"$f":"IF(AND(B112<>\"\",B113<>\"\"),B113-B112,\"\")","v":""},null,"2014-11-02",null,{"$f":"IF(AND(F112<>\"\",F113<>\"\"),F113-F112,\"\")","v":""},null,"2014-12-02",null,{"$f":"IF(AND(J112<>\"\",J113<>\"\"),J113-J112,\"\")","v":""}]
["2014-10-03",null,"",null,"2014-11-03",null,"",null,"2014-12-03",null,""]
["2014-10-04",null,"",null,"2014-11-04",null,"",null,"2014-12-04",null,""]
["2014-10-05",null,"",null,"2014-11-05",null,"",null,"2014-12-05",null,""]
["2014-10-06",null,"",null,"2014-11-06",null,"",null,"2014-12-06",null,""]
["2014-10-07",null,"",null,"2014-11-07",null,"",null,"2014-12-07",null,""]
["2014-10-08",null,"",null,"2014-11-08",null,"",null,"2014-12-08",null,""]
["2014-10-09",null,"",null,"2014-11-09",null,"",null,"2014-12-09",null,""]
["2014-10-10",null,"",null,"2014-11-10",null,"",null,"2014-12-10",null,""]
["2014-10-11",null,"",null,"2014-11-11",null,"",null,"2014-12-11",null,""]
["2014-10-12",null,"",null,"2014-11-12",null,"",null,"2014-12-12",null,""]
["2014-10-13",null,"",null,"2014-11-13",null,"",null,"2014-12-13",null,""]
["2014-10-14",null,"",null,"2014-11-14",null,"",null,"2014-12-14",null,""]
["2014-10-15",null,"",null,"2014-11-15",null,"",null,"2014-12-15",null,""]
["2014-10-16",null,"",null,"2014-11-16",null,"",null,"2014-12-16",null,""]
["2014-10-17",null,"",null,"2014-11-17",null,"",null,"2014-12-17",null,""]
["2014-10-18",null,"",null,"2014-11-18",null,"",null,"2014-12-18",null,""]
["2014-10-19",null,"",null,"2014-11-19",null,"",null,"2014-12-19",null,""]
["2014-10-20",null,"",null,"2014-11-20",null,"",null,"2014-12-20",null,""]
["2014-10-21",null,"",null,"2014-11-21",null,"",null,"2014-12-21",null,""]
["2014-10-22",null,"",null,"2014-11-22",null,"",null,"2014-12-22",null,""]
["2014-10-23",null,"",null,"2014-11-23",null,"",null,"2014-12-23",null,""]
["2014-10-24",null,"",null,"2014-11-24",null,"",null,"2014-12-24",null,""]
["2014-10-25",null,"",null,"2014-11-25",null,"",null,"2014-12-25",null,""]
["2014-10-26",null,"",null,"2014-11-26",null,"",null,"2014-12-26",null,""]
["2014-10-27",null,"",null,"2014-11-27",null,"",null,"2014-12-27",null,""]
["2014-10-28",null,"",null,"2014-11-28",null,"",null,"2014-12-28",null,""]
["2014-10-29",null,"",null,"2014-11-29",null,"",null,"2014-12-29",null,""]
["2014-10-30",null,"",null,"2014-11-30",null,"",null,"2014-12-30",null,""]
["2014-10-31",null,"",null,null,null,{"$f":"IF(AND(F141<>\"\",F142<>\"\"),F142-F141,\"\")","v":""},null,"2014-12-31",null,""]
[null,"Mittelwert:",{"$f":"IF(C112<>\"\",AVERAGE(C112:C142),\"\")","v":""},null,null,"Mittelwert:",{"$f":"IF(G112<>\"\",AVERAGE(G112:G142),\"\")","v":""},null,null,"Mittelwert:",{"$f":"IF(K112<>\"\",AVERAGE(K112:K142),\"\")","v":""}]
[null,"Gesamt:",{"$f":"SUM(C112:C142)","v":0},null,null,"Gesamt:",{"$f":"SUM(G112:G142)","v":0},null,3,"Gesamt:",{"$f":"SUM(K112:K142)","v":0}]
[{"$f":"SUM(C36,G36,K36,C72,G72,K72,C108,G108,K108,C144,G144,K144)","v":0}]